BEGIN:VCALENDAR
VERSION:2.0
PRODID:-//לימודי אפריקה - ECPv6.15.17//NONSGML v1.0//EN
CALSCALE:GREGORIAN
METHOD:PUBLISH
X-WR-CALNAME:לימודי אפריקה
X-ORIGINAL-URL:https://www.africanstudies.co.il
X-WR-CALDESC:Events for לימודי אפריקה
REFRESH-INTERVAL;VALUE=DURATION:PT1H
X-Robots-Tag:noindex
X-PUBLISHED-TTL:PT1H
BEGIN:VTIMEZONE
TZID:Asia/Jerusalem
BEGIN:DAYLIGHT
TZOFFSETFROM:+0200
TZOFFSETTO:+0300
TZNAME:IDT
DTSTART:20170324T000000
END:DAYLIGHT
BEGIN:STANDARD
TZOFFSETFROM:+0300
TZOFFSETTO:+0200
TZNAME:IST
DTSTART:20171028T230000
END:STANDARD
BEGIN:DAYLIGHT
TZOFFSETFROM:+0200
TZOFFSETTO:+0300
TZNAME:IDT
DTSTART:20180323T000000
END:DAYLIGHT
BEGIN:STANDARD
TZOFFSETFROM:+0300
TZOFFSETTO:+0200
TZNAME:IST
DTSTART:20181027T230000
END:STANDARD
BEGIN:DAYLIGHT
TZOFFSETFROM:+0200
TZOFFSETTO:+0300
TZNAME:IDT
DTSTART:20190329T000000
END:DAYLIGHT
BEGIN:STANDARD
TZOFFSETFROM:+0300
TZOFFSETTO:+0200
TZNAME:IST
DTSTART:20191026T230000
END:STANDARD
END:VTIMEZONE
BEGIN:VEVENT
DTSTART;VALUE=DATE:20181213
DTEND;VALUE=DATE:20181214
DTSTAMP:20260425T022840
CREATED:20181127T134356Z
LAST-MODIFIED:20181127T134356Z
UID:3008-1544659200-1544745599@www.africanstudies.co.il
SUMMARY:ערב הקראת שירה מתוך הספר 'מכתבים מאפריקות' בסיפור פשוט
DESCRIPTION:הצטרפו אלינו לערב הקראת שירה חורפית מתוך הספר 'מכתבים מאפריקות'\, בחנות הספרים 'סיפור פשוט' שבנווה צדק. \nבמהלך הערב נקריא קטעים מתוך הספר בשפת המקור שלהם- החל מפורטוגזית\, דרך טיגרינית\, ערבית צרפתית ואנגלית\, וכן בתרגומם לשפה העברית\, בשילוב מוזיקה אפריקאית חיה. \nקצת על הספר:\n'מכתבים מאפריקות'\, הוא אוסף שירה הכולל חמישים שירים מחמישים מדינות שונות ביבשת אפריקה. האוסף מבקש לפתוח חלונות לעולם יצירתי ומגוון המוּנַע מתקווה\, ייאוש\, מאבק והומור. בכוונה תחילה נאספו יחד שירי עם\, יצירות קלאסיות של משוררים ידועים\, פרשנויות פוליטיות\, ביקורות פמיניסטיות נוקבות ויצירות של אמנים צעירים. כל שיר פותח פתח לחוויה ייחודית\, ויחד הם מעידים על המגוון העצום המאפיין את אפריקה כיום. מהשווקים במאוריטניה לחופי אגם ויקטוריה בטנזניה\, השירים באוסף זה חוגגים אהבה\, נישואין וידידות; מוחים על שחיתות פוליטית וניצול; מתאבלים על אלה שאבדו בסכסוכים אלימים; מתפעלים מהטבע ומהחוסן האנושי; ומספרים על הכמיהה לבית\, לתחושת שייכות\, לשגשוג ולשלום. "מכתבים מאפריקות" מזמין את הקוראים לקשר עם כותבים המגיעים מכל רחבי אפריקה בעבר ובהווה\, ומציע הזדמנות ייחודית להקשיב לקולותיהם ולשמוע את שיריהם. \n*הכניסה חינם ואינה מותנית בהרשמה מראש\nמחכים לכם.
URL:https://www.africanstudies.co.il/event/%d7%a2%d7%a8%d7%91-%d7%94%d7%a7%d7%a8%d7%90%d7%aa-%d7%a9%d7%99%d7%a8%d7%94-%d7%9e%d7%aa%d7%95%d7%9a-%d7%94%d7%a1%d7%a4%d7%a8-%d7%9e%d7%9b%d7%aa%d7%91%d7%99%d7%9d-%d7%9e%d7%90%d7%a4%d7%a8%d7%99%d7%a7/
LOCATION:סיפור פשוט נווה צדק\, שבזי 36\, תל אביב יפו 
ATTACH;FMTTYPE=image/jpeg:https://www.africanstudies.co.il/wp-content/uploads/2018/11/46511178_2129479020431298_2061810363388657664_n.jpg
END:VEVENT
END:VCALENDAR