BEGIN:VCALENDAR
VERSION:2.0
PRODID:-//לימודי אפריקה - ECPv5.3.2.1//NONSGML v1.0//EN
CALSCALE:GREGORIAN
METHOD:PUBLISH
X-WR-CALNAME:לימודי אפריקה
X-ORIGINAL-URL:https://www.africanstudies.co.il
X-WR-CALDESC:אירועים ל לימודי אפריקה
BEGIN:VTIMEZONE
TZID:Asia/Jerusalem
BEGIN:DAYLIGHT
TZOFFSETFROM:+0200
TZOFFSETTO:+0300
TZNAME:IDT
DTSTART:20190329T000000
END:DAYLIGHT
BEGIN:STANDARD
TZOFFSETFROM:+0300
TZOFFSETTO:+0200
TZNAME:IST
DTSTART:20191026T230000
END:STANDARD
END:VTIMEZONE
BEGIN:VEVENT
DTSTART;TZID=Asia/Jerusalem:20190125T110000
DTEND;TZID=Asia/Jerusalem:20190125T130000
DTSTAMP:20210505T012346
CREATED:20190117T122720Z
LAST-MODIFIED:20190117T122720Z
UID:3038-1548414000-1548421200@www.africanstudies.co.il
SUMMARY:25.1-נס ודגל | רטרוספקטיבת דגלי ווד
DESCRIPTION:יום שישי\, ה25.1 בשעה 11:00\, הגלריה ללימודי אפריקה וקולקטיב הפליטות קוצ'ינטה שמחות להזמינכם לפתיחת התערוכה הקבוצתית 'נס ודגל'\, רטרוספקטיבה של דגלי וודו מהאיטי ועבודות חדשות שנעשו במיוחד עבור התערוכה על ידי נשות קוצ'ינטה בשיתוף האמנים גיל יפמן וזויה צ'רקסקי ומאדאם מורו "מאסטרית הוודו הגדולה" מהאיטי\nhttps://www.facebook.com/events/1979925595418222/
URL:https://www.africanstudies.co.il/event/25-1-%d7%a0%d7%a1-%d7%95%d7%93%d7%92%d7%9c-%d7%a8%d7%98%d7%a8%d7%95%d7%a1%d7%a4%d7%a7%d7%98%d7%99%d7%91%d7%aa-%d7%93%d7%92%d7%9c%d7%99-%d7%95%d7%95%d7%93/
LOCATION:תל אביב
ATTACH;FMTTYPE=image/png:https://www.africanstudies.co.il/wp-content/uploads/2019/01/3-03.png
END:VEVENT
END:VCALENDAR